BEGIN:VCALENDAR
VERSION:2.0
PRODID:-//La fábrica de lo Social - ECPv5.16.1.1//NONSGML v1.0//EN
CALSCALE:GREGORIAN
METHOD:PUBLISH
X-WR-CALNAME:La fábrica de lo Social
X-ORIGINAL-URL:https://lafabricadelosocial.org
X-WR-CALDESC:Events for La fábrica de lo Social
REFRESH-INTERVAL;VALUE=DURATION:PT1H
X-Robots-Tag:noindex
X-PUBLISHED-TTL:PT1H
BEGIN:VTIMEZONE
TZID:Europe/Madrid
BEGIN:DAYLIGHT
TZOFFSETFROM:+0100
TZOFFSETTO:+0200
TZNAME:CEST
DTSTART:20220327T010000
END:DAYLIGHT
BEGIN:STANDARD
TZOFFSETFROM:+0200
TZOFFSETTO:+0100
TZNAME:CET
DTSTART:20221030T010000
END:STANDARD
END:VTIMEZONE
BEGIN:VEVENT
DTSTART;TZID=Europe/Madrid:20220512T190000
DTEND;TZID=Europe/Madrid:20220512T190000
DTSTAMP:20260419T150217
CREATED:20220624T174000Z
LAST-MODIFIED:20241202T095740Z
UID:177-1652382000-1652382000@lafabricadelosocial.org
SUMMARY:Metropolice. Seguridad y policía en la ciudad neoliberal
DESCRIPTION:Presentación del libro: Metropolice. Seguridad y policía en la ciudad neoliberal. con Sergio García García\, co-autor del libro. Trabajador social y profesor de Antropología (Universidad Complutense de Madrid). Miembro de Carabancheleando. Charla-debate con Pablo Lópiz y Daniel Jiménez y presentación de lafabricadelosocial.org
URL:https://lafabricadelosocial.org/actividad/metropolice-seguridad-y-policia-en-la-ciudad-neoliberal/
LOCATION:Facultad de Ciencias Sociales y del Trabajo (AULA 5)\, C. de Violante de Hungría\, 23\, Zaragoza
CATEGORIES:actividades
ATTACH;FMTTYPE=image/png:https://lafabricadelosocial.org/wp-content/uploads/2022/06/Metropolice-2022.png
END:VEVENT
BEGIN:VEVENT
DTSTART;TZID=Europe/Madrid:20220513T190000
DTEND;TZID=Europe/Madrid:20220513T210000
DTSTAMP:20260419T150217
CREATED:20220513T165723Z
LAST-MODIFIED:20241202T112149Z
UID:318-1652468400-1652475600@lafabricadelosocial.org
SUMMARY:Metropolice. Seguridad y policía en la ciudad neoliberal
DESCRIPTION:https://lafabricadelosocial.org/wp-content/uploads/2022/07/Metropolice-12.05.2022.mp3
URL:https://lafabricadelosocial.org/actividad/metropolice-seguridad-y-policia-en-la-ciudad-neoliberal-audio-de-la-sesion/
LOCATION:Facultad de Ciencias Sociales y del Trabajo (AULA 5)\, C. de Violante de Hungría\, 23\, Zaragoza
CATEGORIES:actividades
ATTACH;FMTTYPE=image/png:https://lafabricadelosocial.org/wp-content/uploads/2022/06/Metropolice-2022.png
END:VEVENT
END:VCALENDAR